BEGIN:VCALENDAR
VERSION:2.0
PRODID:-//kom!ma &ndash; D&uuml;sseldorf - ECPv6.15.20//NONSGML v1.0//EN
CALSCALE:GREGORIAN
METHOD:PUBLISH
X-WR-CALNAME:kom!ma &ndash; D&uuml;sseldorf
X-ORIGINAL-URL:https://komma-duesseldorf.de
X-WR-CALDESC:Veranstaltungen für kom!ma &ndash; D&uuml;sseldorf
REFRESH-INTERVAL;VALUE=DURATION:PT1H
X-Robots-Tag:noindex
X-PUBLISHED-TTL:PT1H
BEGIN:VTIMEZONE
TZID:Europe/Paris
BEGIN:DAYLIGHT
TZOFFSETFROM:+0100
TZOFFSETTO:+0200
TZNAME:CEST
DTSTART:20250330T010000
END:DAYLIGHT
BEGIN:STANDARD
TZOFFSETFROM:+0200
TZOFFSETTO:+0100
TZNAME:CET
DTSTART:20251026T010000
END:STANDARD
BEGIN:DAYLIGHT
TZOFFSETFROM:+0100
TZOFFSETTO:+0200
TZNAME:CEST
DTSTART:20260329T010000
END:DAYLIGHT
BEGIN:STANDARD
TZOFFSETFROM:+0200
TZOFFSETTO:+0100
TZNAME:CET
DTSTART:20261025T010000
END:STANDARD
BEGIN:DAYLIGHT
TZOFFSETFROM:+0100
TZOFFSETTO:+0200
TZNAME:CEST
DTSTART:20270328T010000
END:DAYLIGHT
BEGIN:STANDARD
TZOFFSETFROM:+0200
TZOFFSETTO:+0100
TZNAME:CET
DTSTART:20271031T010000
END:STANDARD
END:VTIMEZONE
BEGIN:VEVENT
DTSTART;TZID=Europe/Paris:20260420T200000
DTEND;TZID=Europe/Paris:20260420T220000
DTSTAMP:20260420T155903
CREATED:20260419T143046Z
LAST-MODIFIED:20260419T143046Z
UID:3623-1776715200-1776722400@komma-duesseldorf.de
SUMMARY:UNGESTALTEN  Politik & Poesie
DESCRIPTION:Kabarett von Sunna Huygen \nDie Zeiten sind unsicher\, der Spaß ist vorbei. Oder? Sunna nimmt ihr Publikum zum Lachen einfach mit in den Wald. Auch dort lauern patriarchales Unbehagen und undemokratische Umtriebe hinter mancher Eiche.\nTrotzdem findet der Kabarettabend Wege durch das undurchdringliche Dickicht heutiger Identitätskrisen\, gesellschaftlicher Ängste und fragiler Freiheitsbegriffe. Wer sind wir und wer löscht\, wenn der Wald brennt? Ist es eine Untat\, untätig zu bleiben? Unterwegs kreuzen Ungestalten den Pfad. Sie sind (un)sympathisch und unerklären die Welt. Vielleicht bieten sie Unterschlupf.\nIm Gepäck hat Sunna Feminismus\, Pointen und Poesie… und immer\, wenn es fies wird\, ertönt Unterhaltungsmusik.\nZwischen Untergangszenarien und ungezogenem Unkraut finden sich Möglichkeiten\, die Zukunft mitzugestalten. Mit Humor und Solidarität? Unbedingt! \nIn Kooperation mit dem zakk  \nKartenbestellung beim  —> zakk
URL:https://komma-duesseldorf.de/veranstaltung/ungestalten-politik-und-poesie/
LOCATION:zakk Studio\, Fichtenstraße 40\, Düsseldorf
CATEGORIES:lauschen,schauen
ATTACH;FMTTYPE=image/jpeg:https://komma-duesseldorf.de/wp-content/uploads/2026/01/sunna-huygen.jpg
END:VEVENT
END:VCALENDAR