BEGIN:VCALENDAR
VERSION:2.0
PRODID:-//kom!ma &ndash; D&uuml;sseldorf - ECPv6.15.20//NONSGML v1.0//EN
CALSCALE:GREGORIAN
METHOD:PUBLISH
X-WR-CALNAME:kom!ma &ndash; D&uuml;sseldorf
X-ORIGINAL-URL:https://komma-duesseldorf.de
X-WR-CALDESC:Veranstaltungen für kom!ma &ndash; D&uuml;sseldorf
REFRESH-INTERVAL;VALUE=DURATION:PT1H
X-Robots-Tag:noindex
X-PUBLISHED-TTL:PT1H
BEGIN:VTIMEZONE
TZID:Europe/Paris
BEGIN:DAYLIGHT
TZOFFSETFROM:+0100
TZOFFSETTO:+0200
TZNAME:CEST
DTSTART:20240331T010000
END:DAYLIGHT
BEGIN:STANDARD
TZOFFSETFROM:+0200
TZOFFSETTO:+0100
TZNAME:CET
DTSTART:20241027T010000
END:STANDARD
BEGIN:DAYLIGHT
TZOFFSETFROM:+0100
TZOFFSETTO:+0200
TZNAME:CEST
DTSTART:20250330T010000
END:DAYLIGHT
BEGIN:STANDARD
TZOFFSETFROM:+0200
TZOFFSETTO:+0100
TZNAME:CET
DTSTART:20251026T010000
END:STANDARD
BEGIN:DAYLIGHT
TZOFFSETFROM:+0100
TZOFFSETTO:+0200
TZNAME:CEST
DTSTART:20260329T010000
END:DAYLIGHT
BEGIN:STANDARD
TZOFFSETFROM:+0200
TZOFFSETTO:+0100
TZNAME:CET
DTSTART:20261025T010000
END:STANDARD
END:VTIMEZONE
BEGIN:VEVENT
DTSTART;TZID=Europe/Paris:20250606T193000
DTEND;TZID=Europe/Paris:20250606T213000
DTSTAMP:20260421T061526
CREATED:20250304T190003Z
LAST-MODIFIED:20250304T191641Z
UID:3310-1749238200-1749245400@komma-duesseldorf.de
SUMMARY:Das musikalische Poesiealbum - Düsseldorfs interaktiver Karaoke-Talk SPEZIAL mit Mascha Corman
DESCRIPTION:Düsseldorf hat viele großartige Frauen zu bieten!  \nIn der Veranstaltungsreihe „Das musikalische Poesiealbum“ wird einigen von ihnen der lila Glitzerteppich ausgerollt. Sechsmal im Jahr werden in dieser Veranstaltungsreihe Frauen präsentiert\, die auf unterschiedlichste Art und Weise die Stadtgesellschaft mitgestalten und Düsseldorf zu einem bunteren und lebenswerteren Ort machen. In einer wilden Mischung aus Talk und gemeinsamem Karaokeabend bekommen die Gästinnen die Möglichkeit\, sich und ihr Leben und Wirken vorzustellen. Gemeinsam öffnen wir dabei das musikalische Poesiealbum der jeweiligen Gästin und singen zusammen mit dem Publikum Lieder\, die die Talkgästin im Laufe ihres Lebens begleitet haben.\nDabei ist musikalisch alles möglich: Von Hildegard Knef bis Sepultura\, von Madonna über die Ärzte bis zu den Beatles… Jeder Abend ist einzigartig\, so wie die jeweilige Gästin.  \nIm Juni freuen wir uns auf Mascha Corman. Sie ist Künstlerin\, Kuratorin und Musikvermittlerin. Ihr Interesse ist das gemeinschaftliche Erschaffen – das\, was im Moment der Begegnung entsteht. Sie arbeitet gerne interdisziplinär\, bewegt sich zwischen den Künsten und fühlt sich in ihrer Vielfalt zuhause.\nWas sie antreibt? „Was mich antreibt\, ist die Hoffnung\, dass Menschen sich mit mehr Liebe und Verständnis begegnen. Ein frommer Wunsch\, ja – aber einer\, den ich ernst meine.“\nIm Oktober kommt ihr neuestes Projekt in Düsseldorf auf die Bühne – zeitgleich erscheint ihr Album Endlichkeit. \nDie Juni Ausgabe ist ein grandioses Spezial des „Musikalischen Poesiealbums“.\nDie Veranstaltung wird im Rahmen des Lovebird Festivals stattfinden. Auf der Bühne stehen dieses Mal gleich vier versierte Jazz Musiker*innen\, die die Lieder unserer Gästin jazzig interpretieren werden.\nDer Abend wird moderiert von Käthe Lorenz und Pia Schwierz. Gesangliche und musikalische Begleitung: Franka von Werden\, Tim Steiner\, Flori Steiner und Tobi Müller.  \nIn Kooperation mit dem Theatermuseum der Landeshauptstadt Düsseldorf und dem  –> Lovebird Festival. \nEintritt: EUR 10\,00/ 6\,00 erm. \nKartenbestellung unter: 0211-8996130 oder kasse_theatermuseum@duesseldorf.de
URL:https://komma-duesseldorf.de/veranstaltung/das-musikalische-poesiealbum-2025-06/
LOCATION:Theatermuseum\, Lore-Lorentz-Saal\, Jägerhofstraße 1\, Düsseldorf\, Germany
CATEGORIES:lauschen,singen
ATTACH;FMTTYPE=image/jpeg:https://komma-duesseldorf.de/wp-content/uploads/2025/03/Mascha_Corman-scaled.jpg
END:VEVENT
BEGIN:VEVENT
DTSTART;TZID=Europe/Paris:20250611T180000
DTEND;TZID=Europe/Paris:20250611T200000
DTSTAMP:20260421T061526
CREATED:20250117T215128Z
LAST-MODIFIED:20250117T215128Z
UID:3274-1749664800-1749672000@komma-duesseldorf.de
SUMMARY:Frauenforum im Juni
DESCRIPTION:Ein feministisches Forum für Austausch und Vernetzung für Alle\, die sich als Frauen verstehen.\nDas Frauenforum besteht seit Juli 1985 aus gesellschafspolitisch feministisch interessierten Frauen. Es handelt sich dabei um einen Zusammenschluss von Einzelpersonen sowie von Frauen aus Institutionen\, Verbänden\, Initiativen\, Parteien\, Stadtverwaltung und aktivistischen Kreisen aus Düsseldorf und Umgebung. Damit bündeln wir Kräfte und Ressourcen\, Wissen und Fachlichkeit. Wir sind divers zusammensetzt und tragen aufgrund unserer Lebensbiographien und Erfahrungswerte aus unterschiedlichen Generationen verschiedene Perspektiven auf Themen der Gleichstellung zusammen und stellen fest:\nDAS PRIVATE IST IMMER NOCH POLITISCH! \nWir wollen feministische Kämpfe vorantreiben und Menschen für feministische Themen sensibilisieren. Wir setzen einen Fokus auf aktuelle Diskurse und Themen\, diese werden bearbeitet mithilfe von (externen) Expert*innen.\nSo sind wir nicht nur ein Ort des gemeinsamen Lernens\, sondern auch ein Ort der Vernetzung in dem wir gemeinsam Stellung beziehen und nachhaltig für Düsseldorferinnen wirken wollen.
URL:https://komma-duesseldorf.de/veranstaltung/frauenforum-2025-05-2/
LOCATION:Rathaus\, Sitzungssaal Rheinturm\, Burgplatz 2\, Düsseldorf
CATEGORIES:Frauenforum
ATTACH;FMTTYPE=image/jpeg:https://komma-duesseldorf.de/wp-content/uploads/2024/06/FF-2024.jpg
ORGANIZER;CN="kom!ma":MAILTO:komma@komma-duesseldorf.de
END:VEVENT
BEGIN:VEVENT
DTSTART;TZID=Europe/Paris:20250616T190000
DTEND;TZID=Europe/Paris:20250616T210000
DTSTAMP:20260421T061526
CREATED:20250306T195411Z
LAST-MODIFIED:20250306T195411Z
UID:3337-1750100400-1750107600@komma-duesseldorf.de
SUMMARY:BEFORE STONEWALL
DESCRIPTION:Greta Schiller und Robert Rosenberg\, USA 1984\, eng OF mit dtsch UT\, FSK 16\, 87 min \nNew York\, Christopher Street\, in der Nacht vom 27. auf den 28. Juni 1969: Homosexuelle und Trans-Personen widersetzen sich in der Bar Stonewall-Inn entschlossen der Polizei\, die das Lokal eigentlich räumen will. Ihr Aufstand und die sich anschließenden Unruhen und Demonstrationen in den folgenden Tagen gelten als Urknall eines queeren Selbstbewusstseins und als Wendepunkt im Kampf um Anerkennung und Gleichstellung\, an den seitdem jährlich bei den Christopher-Street-Day-Paraden erinnert wird.  \nGreta Schiller und Robert Rosenberg erzählen in ihrem preisgekrönten Dokumentarfilm „Before Stonewall“ vom Leben und Alltag queerer US-Amerikaner:innen vor diesem Ereignis. Mit seltenem Archivmaterial aus Filmausschnitten und Fotos\, mit Interviews mit bekannten Persönlichkeiten wie dem Beat-Poeten Allen Ginsberg und der Dichterin und Aktivistin Audre Lorde\, vor allem aber mit Aussagen‚ ganz „normaler“ schwuler\, lesbischer und trans Personen aus der breiten Bevölkerung erzählt der Film die Geschichte des allmählichen Sichtbarwerdens queerer Identitäten in der US-Gesellschaft. \nEintritt: EUR 10\,00/ 8\,00 erm. (Gildepass)\nIn Kooperation mit Queere Geschichte(n) Düsseldorf e.V.
URL:https://komma-duesseldorf.de/veranstaltung/before-stonewall/
LOCATION:bambi\, Klosterstraße 78\, Düsseldorf\, Germany
CATEGORIES:gucken – Die queere Filmreihe
ATTACH;FMTTYPE=image/jpeg:https://komma-duesseldorf.de/wp-content/uploads/2025/03/before-stonewall.jpeg
ORGANIZER;CN="kom!ma":MAILTO:komma@komma-duesseldorf.de
END:VEVENT
BEGIN:VEVENT
DTSTART;TZID=Europe/Paris:20250624T190000
DTEND;TZID=Europe/Paris:20250624T213000
DTSTAMP:20260421T061526
CREATED:20250117T215347Z
LAST-MODIFIED:20250616T125934Z
UID:3277-1750791600-1750800600@komma-duesseldorf.de
SUMMARY:Lesbian Movie Night - entfällt
DESCRIPTION:Jeden letzten Dienstag im Monat heißt es: Licht aus\, Film ab! Lara lädt euch wieder zur Lesbian Movie Night ein\, bei der sie zusammen mit einer neuen Gastperson und euch einen neuen oder alten lesbischen Film erkundet. \nWir spielen „Lesbisches Stereotypenbingo“. Vor Filmbeginn sammeln wir gemeinsam die bekanntesten Klischees rund ums lesbische Leben und füllen damit unsere Bingokarten. Sobald alle Karten fertig sind\, geht’s los! Ertönt das Wort „Lesbe!“\, wurde ein Stereotyp gesichtet – und das Bingo-Feld darf markiert werden!\nHin und wieder pausieren wir den Film\, um zu besprechen\, was wir entdeckt haben und wie diese Klischees auf uns wirken.\nNeben viel Spaß bietet dieser Abend auch die Gelegenheit\, über die Darstellung lesbischen Lebens in den Medien zu sprechen. Wir hinterfragen Klischees\, teilen persönliche Perspektiven und gewinnen so ein besseres Verständnis über die Vielfalt lesbischer Realitäten. Kommt vorbei\, wir freuen uns auf euch! \nEintritt auf Spendenbasis \nIn Kooperation mit dem TOOMUCH Kollektiv und dem QZD
URL:https://komma-duesseldorf.de/veranstaltung/lesbian-movie-night-2025-06/
LOCATION:kom!ma Raum 202\, Himmelgeister Str. 107\, Düsseldorf\, Germany
CATEGORIES:schauen
ATTACH;FMTTYPE=image/png:https://komma-duesseldorf.de/wp-content/uploads/2025/01/LesbianMovieNight.png
END:VEVENT
BEGIN:VEVENT
DTSTART;TZID=Europe/Paris:20250628T110000
DTEND;TZID=Europe/Paris:20250628T160000
DTSTAMP:20260421T061526
CREATED:20250210T185114Z
LAST-MODIFIED:20250616T130047Z
UID:3289-1751108400-1751126400@komma-duesseldorf.de
SUMMARY:Starke Gespräche gestalten - ein machtkritisches Kommunikationstraining für FLINTA* - entfällt
DESCRIPTION:Kommunikation ist das Fundament menschlicher Beziehungen\, da sie Verständnis schafft\, Konflikte löst\, den Austausch von Ideen und Gefühlen ermöglicht und damit unsere Gesellschaft zusammenhält. Dennoch fällt es uns insbesondere in herausfordernden Situationen schwer\, die richtigen Worte zu finden und angemessen in Gesprächen zu reagieren. Zusätzlich prägen gesellschaftlich etablierte Geschlechterrollen unsere Kommunikationsart und etablieren Kommunikationsstile\, die nicht immer förderlich sind. \nIm Rahmen dieses zweitägigen FLINTA*-Trainings wird Kommunikation nicht bloß aus einer reinen Methodik\, sondern in Bezug auf gesamtgesellschaftlich relevante Faktoren wie Geschlechtszuschreibungen bearbeitet. Inhaltlich werden Kommunikationsmethoden vermittelt und eingeübt\, die eine machtkritische Führung und Gestaltung von Gesprächen sowie die Selbstreflexion des eigenen Kommunikationsstils durch gesellschaftliche Analysen in einem geschlechtsspezifischen Schutzraum anregen sollen. \nZiele sind\, Kommunikationsfähigkeiten zu stärken\, Wertschätzung für Gespräche bzw. Gesprächsbeteiligte zu fördern und damit Räume für Stimmen mit diversen Anliegen zu schaffen. \nDas Kommunikationstraining wird geleitet von Asal Kosari\, Sozialarbeiterin & Deeskalationstrainerin. \nSamstag\, 28.06.2025\, 11.00-16.00 Uhr\nSonntag\, 29.06.2025\, 11.00-16.00 Uhr  \nIn Kooperation mit dem Forum Demokratie. \nAnmeldung unter: komma@komma-duesseldorf.de
URL:https://komma-duesseldorf.de/veranstaltung/starke-gespraeche-gestalten/
LOCATION:kom!ma Raum 202\, Himmelgeister Str. 107\, Düsseldorf\, Germany
CATEGORIES:kommunizieren
ATTACH;FMTTYPE=image/jpeg:https://komma-duesseldorf.de/wp-content/uploads/2025/01/Workshop_Asal_privat.jpg
END:VEVENT
END:VCALENDAR