BEGIN:VCALENDAR
VERSION:2.0
PRODID:-//kom!ma &ndash; D&uuml;sseldorf - ECPv6.15.20//NONSGML v1.0//EN
CALSCALE:GREGORIAN
METHOD:PUBLISH
X-WR-CALNAME:kom!ma &ndash; D&uuml;sseldorf
X-ORIGINAL-URL:https://komma-duesseldorf.de
X-WR-CALDESC:Veranstaltungen für kom!ma &ndash; D&uuml;sseldorf
REFRESH-INTERVAL;VALUE=DURATION:PT1H
X-Robots-Tag:noindex
X-PUBLISHED-TTL:PT1H
BEGIN:VTIMEZONE
TZID:Europe/Paris
BEGIN:DAYLIGHT
TZOFFSETFROM:+0100
TZOFFSETTO:+0200
TZNAME:CEST
DTSTART:20240331T010000
END:DAYLIGHT
BEGIN:STANDARD
TZOFFSETFROM:+0200
TZOFFSETTO:+0100
TZNAME:CET
DTSTART:20241027T010000
END:STANDARD
BEGIN:DAYLIGHT
TZOFFSETFROM:+0100
TZOFFSETTO:+0200
TZNAME:CEST
DTSTART:20250330T010000
END:DAYLIGHT
BEGIN:STANDARD
TZOFFSETFROM:+0200
TZOFFSETTO:+0100
TZNAME:CET
DTSTART:20251026T010000
END:STANDARD
BEGIN:DAYLIGHT
TZOFFSETFROM:+0100
TZOFFSETTO:+0200
TZNAME:CEST
DTSTART:20260329T010000
END:DAYLIGHT
BEGIN:STANDARD
TZOFFSETFROM:+0200
TZOFFSETTO:+0100
TZNAME:CET
DTSTART:20261025T010000
END:STANDARD
END:VTIMEZONE
BEGIN:VEVENT
DTSTART;TZID=Europe/Paris:20250705T180000
DTEND;TZID=Europe/Paris:20250705T200000
DTSTAMP:20260421T081041
CREATED:20250516T181323Z
LAST-MODIFIED:20250520T085258Z
UID:3349-1751738400-1751745600@komma-duesseldorf.de
SUMMARY:Wenn wir lächeln - Lesung von und mit Mascha Unterlehberg im Rahmen des LIT. festivals
DESCRIPTION:Der localbookshop veranstaltet vom 3. bis 7. Juli 2025  ein Literaturfestival in der Stadt!\nAn besonderen Orten in Düsseldorf warten großartige Lesungen und ein ganz besonderer Community Tag.\nDas Motto: all LIT up – women first. Was als zufällige Programmplanung begann\, wurde zur Herzenssache: Unser erstes LIT.festival widmet sich ausschließlich Autorinnen. Ein Auftakt\, der Bücher und Frauen feiert – und ein Festival\, das strahlen soll. \nWir freuen uns als kom!ma dieses tolle Festival unterstützen zu dürfen. Wir sind Kooperationspartnerin für die Lesung von Mascha Unterlehbergs Debütroman „Wenn wir lächeln“. \nIn „Wenn wir lächeln“ zeichnet Mascha Unterlehberg das bestechende und kraftvolle Porträt einer zarten Freundinnenschaft\, die sich gegen den Druck von außen und eine stets drohende Gewalt behaupten muss – bis es Zeit ist\, zurückzuschlagen.\n„Mascha Unterlehberg schreibt hart und weich\, klar und schimmernd. Dieser Roman beschleunigt den Puls und lässt den Atem stocken.“ Ruth-Maria Thomas \nEine Kooperation mit dem LIT.festival 2025 \nKartenbestellungen und Infos unter: www.litfestival.de
URL:https://komma-duesseldorf.de/veranstaltung/wenn-wir-laecheln-lesung-von-und-mit-mascha-unterlehberg-im-rahmen-des-lit-festivals/
LOCATION:Bilker Bunker\, Schleuse Zwei\, Aachener Straße 39\,\, Düsseldorf\, Germany
CATEGORIES:lauschen
ATTACH;FMTTYPE=image/jpeg:https://komma-duesseldorf.de/wp-content/uploads/2025/05/LITfest-Unterlehberg.jpg
END:VEVENT
BEGIN:VEVENT
DTSTART;TZID=Europe/Paris:20250721T190000
DTEND;TZID=Europe/Paris:20250721T210000
DTSTAMP:20260421T081041
CREATED:20250118T232049Z
LAST-MODIFIED:20250306T191618Z
UID:3280-1753124400-1753131600@komma-duesseldorf.de
SUMMARY:MARINETTE - KÄMPFERIN. FUSSBALLERIN. LEGENDE.
DESCRIPTION:Regie: Virginie Verrier\, Frankreich 2023\, 95 min. \nFrankreich 1980: Die kleine Marinette Pichon beginnt heimlich mit dem Fußballtraining. Fußballplatz und Mannschaft werden zu dem Zuhause\, das sie nie hatte. Obwohl kaum jemand an Marinettes Traum einer Karriere im Profifußball glaubt\, schafft sie es bis ins französische Nationalteam. Doch unfaire Bezahlung und Ignoranz legen allen Spielerinnen Steine in den Weg.\nAls Marinette von einem professionellen US-Team unter Vertrag genommen wird\, verändert das alles für sie. Die USA bieten ihr die Freiheit\, sich auf dem Platz und in ihrem Privatleben zu entfalten. Auch kann sie endlich offen zu ihrer Homosexualität stehen. Der amerikanische Traum hält jedoch nicht lange an\, ihre erste Beziehung wird zum Albtraum und die US-Frauenfußball-Liga geht bankrott. Zurück in Frankreich muss Marinette erneut gegen eine Sportindustrie ankämpfen\, in der Frauen weiterhin nicht ernst genommenwerden. \nEintritt: EUR 10\,00/ 8\,00 erm. (Gildepass)
URL:https://komma-duesseldorf.de/veranstaltung/marinette/
LOCATION:bambi\, Klosterstraße 78\, Düsseldorf\, Germany
CATEGORIES:gucken – Die queere Filmreihe
ATTACH;FMTTYPE=image/jpeg:https://komma-duesseldorf.de/wp-content/uploads/2025/01/marinette.jpeg
ORGANIZER;CN="kom!ma":MAILTO:komma@komma-duesseldorf.de
END:VEVENT
END:VCALENDAR