BEGIN:VCALENDAR
VERSION:2.0
PRODID:-//kom!ma &ndash; D&uuml;sseldorf - ECPv6.15.20//NONSGML v1.0//EN
CALSCALE:GREGORIAN
METHOD:PUBLISH
X-WR-CALNAME:kom!ma &ndash; D&uuml;sseldorf
X-ORIGINAL-URL:https://komma-duesseldorf.de
X-WR-CALDESC:Veranstaltungen für kom!ma &ndash; D&uuml;sseldorf
REFRESH-INTERVAL;VALUE=DURATION:PT1H
X-Robots-Tag:noindex
X-PUBLISHED-TTL:PT1H
BEGIN:VTIMEZONE
TZID:Europe/Paris
BEGIN:DAYLIGHT
TZOFFSETFROM:+0100
TZOFFSETTO:+0200
TZNAME:CEST
DTSTART:20240331T010000
END:DAYLIGHT
BEGIN:STANDARD
TZOFFSETFROM:+0200
TZOFFSETTO:+0100
TZNAME:CET
DTSTART:20241027T010000
END:STANDARD
BEGIN:DAYLIGHT
TZOFFSETFROM:+0100
TZOFFSETTO:+0200
TZNAME:CEST
DTSTART:20250330T010000
END:DAYLIGHT
BEGIN:STANDARD
TZOFFSETFROM:+0200
TZOFFSETTO:+0100
TZNAME:CET
DTSTART:20251026T010000
END:STANDARD
BEGIN:DAYLIGHT
TZOFFSETFROM:+0100
TZOFFSETTO:+0200
TZNAME:CEST
DTSTART:20260329T010000
END:DAYLIGHT
BEGIN:STANDARD
TZOFFSETFROM:+0200
TZOFFSETTO:+0100
TZNAME:CET
DTSTART:20261025T010000
END:STANDARD
END:VTIMEZONE
BEGIN:VEVENT
DTSTART;TZID=Europe/Paris:20250825T200000
DTEND;TZID=Europe/Paris:20250825T223000
DTSTAMP:20260421T100437
CREATED:20250717T170942Z
LAST-MODIFIED:20250717T170942Z
UID:3372-1756152000-1756161000@komma-duesseldorf.de
SUMMARY:Lesbian Movie Night - Open Air Summer Special mit femmes&schwestern
DESCRIPTION:Normalerweise lädt Lara jeden letzten Dienstag zur Lesbian Movie Night in die Räume der kom!ma ein. Im August geht die Lesbian Movie Night gemeinsam mit femmes&schwestern open air und das montags!\nGemeinsam mit einer Gastperson und Euch wird ein neuer oder alter lesbischer Film erkundet.\nWir spielen „Lesbisches Stereotypenbingo“. Vor Filmbeginn sammeln wir gemeinsam die bekanntesten Klischees rund ums lesbische Leben und füllen damit unsere Bingokarten. Sobald alle Karten fertig sind\, geht’s los! Ertönt das Wort „Lesbe!“\, wurde ein Stereotyp gesichtet – und das Bingo-Feld darf markiert werden! Hin und wieder pausieren wir den Film\, um zu besprechen\, was wir entdeckt haben und wie diese Klischees auf uns wirken. Neben viel Spaß bietet dieser Abend auch die Gelegenheit\, über die Darstellung lesbischen Lebens in den Medien zu sprechen. Wir hinterfragen Klischees\, teilen persönliche Perspektiven und gewinnen so ein besseres Verständnis über die Vielfalt lesbischer Realitäten. Kommt vorbei\, wir freuen uns auf euch!  \nEintritt auf Spendenbasis \nIn Kooperation mit dem TOOMUCH Kollektiv\, dem QZD und femmes&schwestern
URL:https://komma-duesseldorf.de/veranstaltung/lesbian-movie-night-2025-08/
LOCATION:zakk Biergarten\, Fichtenstr. 40\, Düsseldorf\, Germany
CATEGORIES:schauen
ATTACH;FMTTYPE=image/png:https://komma-duesseldorf.de/wp-content/uploads/2025/01/LesbianMovieNight.png
END:VEVENT
BEGIN:VEVENT
DTSTART;TZID=Europe/Paris:20250829T193000
DTEND;TZID=Europe/Paris:20250829T213000
DTSTAMP:20260421T100437
CREATED:20250717T171459Z
LAST-MODIFIED:20250717T171459Z
UID:3376-1756495800-1756503000@komma-duesseldorf.de
SUMMARY:Das musikalische Poesiealbum - Düsseldorfs interaktiver Karaoke-Talk mit Dr. Britta Gahr
DESCRIPTION:In der Veranstaltungsreihe stellt kom!ma e.V. sechsmal im Jahr Frauen aus Düsseldorf und Umgebung vor\, die sich auf unterschiedlichste Art und Weise für Frauenbelange in der Stadt einsetzen. In einer wilden Mischung aus Talk und gemeinsamem Karaokeabend bekommen die Gästinnen die Möglichkeit\, sich und ihr Leben und Wirken vorzustellen. Gemeinsam öffnen wir dabei das musikalische Poesiealbum der Gästinnen und singen zusammen mit dem Publikum Lieder\, die die Talkgästin im Laufe ihres Lebens begleitet haben. \nDer Abend wird moderiert von Käthe Lorenz und Pia Schwierz. Gesangliche und musikalische Begleitung: Franka von Werden\, Tim Steiner. \nIm August freuen wir uns auf Dr. Britta Gahr. Seit Anfang der 2010er Jahre leitet sie die rechtsmedizinische Ambulanz für Gewaltbetroffene und das Drittmittelprojekt iGOBSIS\, das sich der flächendeckenden Umsetzung der Vertraulichen Spurensicherung in Nordrhein-Westfalen widmet. Jedes Jahr steht sie gemeinsam mit Kolleg*innen bei der „Forensischen Nacht“ auf der Bühne und bringt Nicht-Rechtsmediziner*innen die Unterschiede zwischen Krimis und der Wirklichkeit näher.  \nIn Kooperation mit dem Theatermuseum der Landeshauptstadt Düsseldorf. \nEintritt: EUR 10\,00/ 6\,00 erm. \nKartenbestellung unter: 0211-8996130 oder kasse_theatermuseum@duesseldorf.de
URL:https://komma-duesseldorf.de/veranstaltung/das-musikalische-poesiealbum-2025-08/
LOCATION:Theatermuseum\, Lore-Lorentz-Saal\, Jägerhofstraße 1\, Düsseldorf\, Germany
CATEGORIES:lauschen,singen
ATTACH;FMTTYPE=image/jpeg:https://komma-duesseldorf.de/wp-content/uploads/2025/07/BrittaGahr-scaled.jpg
END:VEVENT
END:VCALENDAR